BEGIN:VCALENDAR
VERSION:2.0
PRODID:-//time.you/holidays//NONSGML v1.0//EN
BEGIN:VEVENT
UID:fc7362ce-0ea7-4684-8c3f-7d68d3689b3c
DTSTAMP:20260423T215140Z
DTSTART;VALUE=DATE:20261225
SUMMARY:Christmas Day (Philippines)
END:VEVENT
END:VCALENDAR