BEGIN:VCALENDAR
VERSION:2.0
PRODID:-//time.you/holidays//NONSGML v1.0//EN
BEGIN:VEVENT
UID:dd88e6c4-6322-479b-9f97-1ed1bd82bec2
DTSTAMP:20260420T125731Z
DTSTART;VALUE=DATE:20260409
SUMMARY:Day of Valor (Philippines)
END:VEVENT
END:VCALENDAR