BEGIN:VCALENDAR
VERSION:2.0
PRODID:-//time.you/holidays//NONSGML v1.0//EN
BEGIN:VEVENT
UID:d8c24183-e003-46f7-ac1e-4384243bf6f4
DTSTAMP:20260421T211057Z
DTSTART;VALUE=DATE:20230224
SUMMARY:EDSA People Power Revolution Anniversary (Philippines)
END:VEVENT
END:VCALENDAR