BEGIN:VCALENDAR
VERSION:2.0
PRODID:-//time.you/holidays//NONSGML v1.0//EN
BEGIN:VEVENT
UID:3f90f2fd-a868-4983-8bb7-2fc622d6efea
DTSTAMP:20260421T112050Z
DTSTART;VALUE=DATE:20260527
SUMMARY:Eid al-Adha (estimated) (Philippines)
END:VEVENT
END:VCALENDAR