BEGIN:VCALENDAR
VERSION:2.0
PRODID:-//time.you/holidays//NONSGML v1.0//EN
BEGIN:VEVENT
UID:df73831d-3549-410d-a2b0-1ed01fe19149
DTSTAMP:20260424T024802Z
DTSTART;VALUE=DATE:20250606
SUMMARY:Eid al-Adha (Philippines)
END:VEVENT
END:VCALENDAR