BEGIN:VCALENDAR
VERSION:2.0
PRODID:-//time.you/holidays//NONSGML v1.0//EN
BEGIN:VEVENT
UID:1947a935-e9a8-43cb-b86e-891e6fe8030a
DTSTAMP:20260420T152435Z
DTSTART;VALUE=DATE:20260320
SUMMARY:Eid al-Fitr (estimated) (Philippines)
END:VEVENT
END:VCALENDAR