BEGIN:VCALENDAR
VERSION:2.0
PRODID:-//time.you/holidays//NONSGML v1.0//EN
BEGIN:VEVENT
UID:6e015f4d-a0a5-45d5-9ce3-ac1c3274321c
DTSTAMP:20260422T071123Z
DTSTART;VALUE=DATE:20250401
SUMMARY:Eid al-Fitr (Philippines)
END:VEVENT
END:VCALENDAR