BEGIN:VCALENDAR
VERSION:2.0
PRODID:-//time.you/holidays//NONSGML v1.0//EN
BEGIN:VEVENT
UID:547c378b-ce11-4e16-8dc6-392c5919a4e6
DTSTAMP:20260422T001334Z
DTSTART;VALUE=DATE:20250512
SUMMARY:Elections special (non-working) day (Philippines)
END:VEVENT
END:VCALENDAR