BEGIN:VCALENDAR
VERSION:2.0
PRODID:-//time.you/holidays//NONSGML v1.0//EN
BEGIN:VEVENT
UID:66e34dbd-e642-42f6-83d8-7dc713266a9e
DTSTAMP:20260420T201112Z
DTSTART;VALUE=DATE:20260403
SUMMARY:Good Friday (Philippines)
END:VEVENT
END:VCALENDAR