BEGIN:VCALENDAR
VERSION:2.0
PRODID:-//time.you/holidays//NONSGML v1.0//EN
BEGIN:VEVENT
UID:cc7d7e66-e92e-44d1-8e7d-2dd2ba2dc687
DTSTAMP:20260420T015104Z
DTSTART;VALUE=DATE:20260402
SUMMARY:Maundy Thursday (Philippines)
END:VEVENT
END:VCALENDAR