BEGIN:VCALENDAR
VERSION:2.0
PRODID:-//time.you/holidays//NONSGML v1.0//EN
BEGIN:VEVENT
UID:83cea915-bc25-4da7-ac16-1e86a03cc673
DTSTAMP:20260419T233626Z
DTSTART;VALUE=DATE:20260101
SUMMARY:New Year's Day (Philippines)
END:VEVENT
END:VCALENDAR