BEGIN:VCALENDAR
VERSION:2.0
PRODID:-//time.you/holidays//NONSGML v1.0//EN
BEGIN:VEVENT
UID:4fb9a599-362b-4294-b92e-6fed9708e054
DTSTAMP:20260421T233614Z
DTSTART;VALUE=DATE:20260821
SUMMARY:Ninoy Aquino Day (Philippines)
END:VEVENT
END:VCALENDAR