BEGIN:VCALENDAR
VERSION:2.0
PRODID:-//time.you/holidays//NONSGML v1.0//EN
BEGIN:VEVENT
UID:0273ae6f-3ee6-44a4-8c59-bb454ddc1a5e
DTSTAMP:20260423T171533Z
DTSTART;VALUE=DATE:20260403
SUMMARY:Good Friday (Pitcairn Islands)
END:VEVENT
END:VCALENDAR