BEGIN:VCALENDAR
VERSION:2.0
PRODID:-//time.you/holidays//NONSGML v1.0//EN
BEGIN:VEVENT
UID:82083e26-b570-48cf-8c21-21d0e56574d0
DTSTAMP:20260423T184406Z
DTSTART;VALUE=DATE:20260702
SUMMARY:Pitcairn Day (Pitcairn Islands)
END:VEVENT
END:VCALENDAR