BEGIN:VCALENDAR
VERSION:2.0
PRODID:-//time.you/holidays//NONSGML v1.0//EN
BEGIN:VEVENT
UID:9183241d-4b0e-4c43-bbe3-503931962a6d
DTSTAMP:20260422T002528Z
DTSTART;VALUE=DATE:20220611
SUMMARY:Queen's Birthday (Pitcairn Islands)
END:VEVENT
END:VCALENDAR