BEGIN:VCALENDAR
VERSION:2.0
PRODID:-//time.you/holidays//NONSGML v1.0//EN
BEGIN:VEVENT
UID:08846ac1-e456-4a1d-94aa-5640e30db968
DTSTAMP:20260424T205401Z
DTSTART;VALUE=DATE:20261101
SUMMARY:All Saints' Day (Poland)
END:VEVENT
END:VCALENDAR