BEGIN:VCALENDAR
VERSION:2.0
PRODID:-//time.you/holidays//NONSGML v1.0//EN
BEGIN:VEVENT
UID:449c7241-3af6-4b92-9238-ee11c032ed31
DTSTAMP:20260421T004138Z
DTSTART;VALUE=DATE:20260106
SUMMARY:Epiphany (Poland)
END:VEVENT
END:VCALENDAR