BEGIN:VCALENDAR
VERSION:2.0
PRODID:-//time.you/holidays//NONSGML v1.0//EN
BEGIN:VEVENT
UID:ea29805a-8021-4951-8066-bb5313728646
DTSTAMP:20260420T084431Z
DTSTART;VALUE=DATE:20261101
SUMMARY:All Saints' Day (Portugal)
END:VEVENT
END:VCALENDAR