BEGIN:VCALENDAR
VERSION:2.0
PRODID:-//time.you/holidays//NONSGML v1.0//EN
BEGIN:VEVENT
UID:2b8ad8f5-0e3a-42ad-aae8-dd8ca1731310
DTSTAMP:20260424T164815Z
DTSTART;VALUE=DATE:20260610
SUMMARY:Day of Portugal, Camões, and the Portuguese Communities (Portugal)
END:VEVENT
END:VCALENDAR