BEGIN:VCALENDAR
VERSION:2.0
PRODID:-//time.you/holidays//NONSGML v1.0//EN
BEGIN:VEVENT
UID:851fa1dd-6053-4e58-9770-61c2acbf175c
DTSTAMP:20260420T125824Z
DTSTART;VALUE=DATE:20260701
SUMMARY:Day of the Autonomous Region of Madeira and the Madeiran Communities (Portugal)
END:VEVENT
END:VCALENDAR