BEGIN:VCALENDAR
VERSION:2.0
PRODID:-//time.you/holidays//NONSGML v1.0//EN
BEGIN:VEVENT
UID:76ab4ed0-bfb6-49ab-8758-bf8573cdec8f
DTSTAMP:20260420T125824Z
DTSTART;VALUE=DATE:20260525
SUMMARY:Day of the Autonomous Region of the Azores (Portugal)
END:VEVENT
END:VCALENDAR