BEGIN:VCALENDAR
VERSION:2.0
PRODID:-//time.you/holidays//NONSGML v1.0//EN
BEGIN:VEVENT
UID:703769e3-cd63-4193-bd9d-47c90e5b275f
DTSTAMP:20260421T234405Z
DTSTART;VALUE=DATE:20340425
SUMMARY:Feast of Our Lady of Mércoles; Freedom Day (Portugal)
END:VEVENT
END:VCALENDAR