BEGIN:VCALENDAR
VERSION:2.0
PRODID:-//time.you/holidays//NONSGML v1.0//EN
BEGIN:VEVENT
UID:95954404-c076-4c80-bc4f-06c77314a4ba
DTSTAMP:20260420T022254Z
DTSTART;VALUE=DATE:20260820
SUMMARY:Feast of Our Lady of Sorrows (Portugal)
END:VEVENT
END:VCALENDAR