BEGIN:VCALENDAR
VERSION:2.0
PRODID:-//time.you/holidays//NONSGML v1.0//EN
BEGIN:VEVENT
UID:99a66b2f-f033-45f9-8fce-fe22860ff219
DTSTAMP:20260424T143523Z
DTSTART;VALUE=DATE:20260403
SUMMARY:Good Friday (Portugal)
END:VEVENT
END:VCALENDAR