BEGIN:VCALENDAR
VERSION:2.0
PRODID:-//time.you/holidays//NONSGML v1.0//EN
BEGIN:VEVENT
UID:dca653db-5c49-4742-a264-da6afc3fc728
DTSTAMP:20260420T022254Z
DTSTART;VALUE=DATE:20260907
SUMMARY:Municipal Holiday of Faro (Portugal)
END:VEVENT
END:VCALENDAR