BEGIN:VCALENDAR
VERSION:2.0
PRODID:-//time.you/holidays//NONSGML v1.0//EN
BEGIN:VEVENT
UID:38116b29-2513-45a9-8a3e-aac881d284f9
DTSTAMP:20260420T141147Z
DTSTART;VALUE=DATE:20261127
SUMMARY:Municipal Holiday of Guarda (Portugal)
END:VEVENT
END:VCALENDAR