BEGIN:VCALENDAR
VERSION:2.0
PRODID:-//time.you/holidays//NONSGML v1.0//EN
BEGIN:VEVENT
UID:721c9cae-887e-49a8-b1f4-4da34f257cc4
DTSTAMP:20260420T022254Z
DTSTART;VALUE=DATE:20260522
SUMMARY:Municipal Holiday of Leiria (Portugal)
END:VEVENT
END:VCALENDAR