BEGIN:VCALENDAR
VERSION:2.0
PRODID:-//time.you/holidays//NONSGML v1.0//EN
BEGIN:VEVENT
UID:f7743541-8a13-48b0-8b1e-15b3c9a86f6f
DTSTAMP:20260421T223359Z
DTSTART;VALUE=DATE:20260319
SUMMARY:Saint Joseph's Day (Portugal)
END:VEVENT
END:VCALENDAR