BEGIN:VCALENDAR
VERSION:2.0
PRODID:-//time.you/holidays//NONSGML v1.0//EN
BEGIN:VEVENT
UID:2382d032-768e-4763-83c9-c726b00969db
DTSTAMP:20260422T233933Z
DTSTART;VALUE=DATE:20260629
SUMMARY:Saint Peter's Day (Portugal)
END:VEVENT
END:VCALENDAR