BEGIN:VCALENDAR
VERSION:2.0
PRODID:-//time.you/holidays//NONSGML v1.0//EN
BEGIN:VEVENT
UID:b5c164fc-c1b8-4d32-91d9-33250d75a7c8
DTSTAMP:20260422T053458Z
DTSTART;VALUE=DATE:20270726
SUMMARY:Constitution Day (observed) (Puerto Rico)
END:VEVENT
END:VCALENDAR