BEGIN:VCALENDAR
VERSION:2.0
PRODID:-//time.you/holidays//NONSGML v1.0//EN
BEGIN:VEVENT
UID:bb54d448-bac1-4007-b4ba-c1fb8a41b5fb
DTSTAMP:20260422T035459Z
DTSTART;VALUE=DATE:20261119
SUMMARY:Discovery Day (Puerto Rico)
END:VEVENT
END:VCALENDAR