BEGIN:VCALENDAR
VERSION:2.0
PRODID:-//time.you/holidays//NONSGML v1.0//EN
BEGIN:VEVENT
UID:a3003e3f-0534-4a53-bc5c-d306142f0e58
DTSTAMP:20260421T171413Z
DTSTART;VALUE=DATE:20260322
SUMMARY:Emancipation Day (Puerto Rico)
END:VEVENT
END:VCALENDAR