BEGIN:VCALENDAR
VERSION:2.0
PRODID:-//time.you/holidays//NONSGML v1.0//EN
BEGIN:VEVENT
UID:8d8f92ac-39ea-4881-b89e-d8cf5759d617
DTSTAMP:20260422T040137Z
DTSTART;VALUE=DATE:20260403
SUMMARY:Good Friday (Puerto Rico)
END:VEVENT
END:VCALENDAR