BEGIN:VCALENDAR
VERSION:2.0
PRODID:-//time.you/holidays//NONSGML v1.0//EN
BEGIN:VEVENT
UID:e5167c52-ee56-4755-a0f8-aa7f29ab9ed5
DTSTAMP:20260425T024851Z
DTSTART;VALUE=DATE:20260525
SUMMARY:Memorial Day (Puerto Rico)
END:VEVENT
END:VCALENDAR