BEGIN:VCALENDAR
VERSION:2.0
PRODID:-//time.you/holidays//NONSGML v1.0//EN
BEGIN:VEVENT
UID:3cf27c3e-fd60-4903-b470-2007784c43f2
DTSTAMP:20260421T223852Z
DTSTART;VALUE=DATE:20260101
SUMMARY:New Year's Day (Puerto Rico)
END:VEVENT
END:VCALENDAR