BEGIN:VCALENDAR
VERSION:2.0
PRODID:-//time.you/holidays//NONSGML v1.0//EN
BEGIN:VEVENT
UID:25bac483-3723-45c5-811b-e2f9e2c40edd
DTSTAMP:20260422T070633Z
DTSTART;VALUE=DATE:20261126
SUMMARY:Thanksgiving Day (Puerto Rico)
END:VEVENT
END:VCALENDAR