BEGIN:VCALENDAR
VERSION:2.0
PRODID:-//time.you/holidays//NONSGML v1.0//EN
BEGIN:VEVENT
UID:b7d7ca2e-a9e4-4446-81ae-990f7e50eb00
DTSTAMP:20260424T122319Z
DTSTART;VALUE=DATE:20281110
SUMMARY:Veterans Day (observed) (Puerto Rico)
END:VEVENT
END:VCALENDAR