BEGIN:VCALENDAR
VERSION:2.0
PRODID:-//time.you/holidays//NONSGML v1.0//EN
BEGIN:VEVENT
UID:786433ea-12cf-40ea-be0b-6a2d1e370d1b
DTSTAMP:20260421T205524Z
DTSTART;VALUE=DATE:20261111
SUMMARY:Veterans Day (Puerto Rico)
END:VEVENT
END:VCALENDAR