BEGIN:VCALENDAR
VERSION:2.0
PRODID:-//time.you/holidays//NONSGML v1.0//EN
BEGIN:VEVENT
UID:e3726ac7-96a6-453b-b233-45f0960d1cac
DTSTAMP:20260420T115929Z
DTSTART;VALUE=DATE:20260527
SUMMARY:Eid al-Adha (estimated) (Qatar)
END:VEVENT
END:VCALENDAR