BEGIN:VCALENDAR
VERSION:2.0
PRODID:-//time.you/holidays//NONSGML v1.0//EN
BEGIN:VEVENT
UID:326efe92-e9b1-42d2-8895-74cc6a595f06
DTSTAMP:20260424T014538Z
DTSTART;VALUE=DATE:20240616
SUMMARY:Eid al-Adha (Qatar)
END:VEVENT
END:VCALENDAR