BEGIN:VCALENDAR
VERSION:2.0
PRODID:-//time.you/holidays//NONSGML v1.0//EN
BEGIN:VEVENT
UID:43b3e482-f868-42e2-b827-cea41682e6f3
DTSTAMP:20260420T125230Z
DTSTART;VALUE=DATE:20260320
SUMMARY:Eid al-Fitr (estimated) (Qatar)
END:VEVENT
END:VCALENDAR