BEGIN:VCALENDAR
VERSION:2.0
PRODID:-//time.you/holidays//NONSGML v1.0//EN
BEGIN:VEVENT
UID:bf7a1871-f4ed-40ee-af43-3161ed8c91fa
DTSTAMP:20260424T070931Z
DTSTART;VALUE=DATE:20250330
SUMMARY:Eid al-Fitr (Qatar)
END:VEVENT
END:VCALENDAR