BEGIN:VCALENDAR
VERSION:2.0
PRODID:-//time.you/holidays//NONSGML v1.0//EN
BEGIN:VEVENT
UID:c12eded4-1386-4764-a964-6665960653ad
DTSTAMP:20260421T233435Z
DTSTART;VALUE=DATE:20250102
SUMMARY:New Year's Holiday (Qatar)
END:VEVENT
END:VCALENDAR