BEGIN:VCALENDAR
VERSION:2.0
PRODID:-//time.you/holidays//NONSGML v1.0//EN
BEGIN:VEVENT
UID:03f05958-6b99-448f-9350-fca76e18981d
DTSTAMP:20260424T170933Z
DTSTART;VALUE=DATE:20261218
SUMMARY:Qatar National Day (Qatar)
END:VEVENT
END:VCALENDAR