BEGIN:VCALENDAR
VERSION:2.0
PRODID:-//time.you/holidays//NONSGML v1.0//EN
BEGIN:VEVENT
UID:12060a5b-5478-48e8-942b-515ab5421d42
DTSTAMP:20260420T021751Z
DTSTART;VALUE=DATE:20261220
SUMMARY:Abolition of Slavery (Réunion)
END:VEVENT
END:VCALENDAR