BEGIN:VCALENDAR
VERSION:2.0
PRODID:-//time.you/holidays//NONSGML v1.0//EN
BEGIN:VEVENT
UID:a3b0765e-74c3-4bae-bd79-a413b4ef6061
DTSTAMP:20260419T234826Z
DTSTART;VALUE=DATE:20261101
SUMMARY:All Saints' Day (Réunion)
END:VEVENT
END:VCALENDAR