BEGIN:VCALENDAR
VERSION:2.0
PRODID:-//time.you/holidays//NONSGML v1.0//EN
BEGIN:VEVENT
UID:0bf2d764-5230-41f9-8b69-6d63c263975a
DTSTAMP:20260422T071327Z
DTSTART;VALUE=DATE:20261111
SUMMARY:Armistice Day (Réunion)
END:VEVENT
END:VCALENDAR