BEGIN:VCALENDAR
VERSION:2.0
PRODID:-//time.you/holidays//NONSGML v1.0//EN
BEGIN:VEVENT
UID:e86f02d0-a0f0-4531-bd8c-5872c7c96440
DTSTAMP:20260424T000441Z
DTSTART;VALUE=DATE:20260815
SUMMARY:Assumption Day (Réunion)
END:VEVENT
END:VCALENDAR