BEGIN:VCALENDAR
VERSION:2.0
PRODID:-//time.you/holidays//NONSGML v1.0//EN
BEGIN:VEVENT
UID:c7e85ee2-75bf-46f3-844c-6b9b8e369c9f
DTSTAMP:20260422T034819Z
DTSTART;VALUE=DATE:20261225
SUMMARY:Christmas Day (Réunion)
END:VEVENT
END:VCALENDAR