BEGIN:VCALENDAR
VERSION:2.0
PRODID:-//time.you/holidays//NONSGML v1.0//EN
BEGIN:VEVENT
UID:edccf957-c592-4eef-bfbb-53b9500fb721
DTSTAMP:20260424T235820Z
DTSTART;VALUE=DATE:20260406
SUMMARY:Easter Monday (Réunion)
END:VEVENT
END:VCALENDAR